BEGIN:VCALENDAR
VERSION:2.0
PRODID:icalendar-ruby
CALSCALE:GREGORIAN
METHOD:PUBLISH
BEGIN:VEVENT
DTSTAMP:20260420T131646Z
UID:42-160565@wrccfamily.org
DTSTART:20260608T003000Z
DTEND:20260611T033000Z
CLASS:PUBLIC
CREATED:20260415T122813
DESCRIPTION:VBS is offered for 3 year old's (potty trained) to 5th grade!\n
 Please click here to fill out one registration form per child and click su
 bmit.\nVBS DATES:\nSun\, June 7 - 5:30 - 8:30 (Dinner provided for familie
 s as well as an adult bible class after dinner)\nMon\, June 8 - 5:30 pm - 
 8:30 pm (Light dinner provided for VBS kids)\nTue\, June 9 - 5:30 pm - 8:3
 0 pm (Light dinner provided for VBS kids)\nWed\, June 10 - 5:30 pm - 8:30 
 pm (Light dinner provided for VBS kids)\nIf you have any questions or if y
 ou would like to volunteer for VBS this summer please contact Rachel Wolla
 rd.
LAST-MODIFIED:20260415T122813
LOCATION:Westport Road Church of Christ
SUMMARY:VBS
URL;VALUE=URI:https://www.wrccfamily.org/events/vbs/2026-06-07
ATTACH;FILENAME=Screenshot-2026-04-15-152130.png;FMTTYPE=image/png:https://
 dq5pwpg1q8ru0.cloudfront.net/2026/04/15/19/23/40/554c33b5-6f40-444a-a432-6
 0ae318c1d78/Screenshot-2026-04-15-152130.png
END:VEVENT
END:VCALENDAR
